BEGIN:VCALENDAR
VERSION:2.0
PRODID:-//wp-events-plugin.com//7.2.3.1//EN
BEGIN:VEVENT
UID:13@trashiyangtse.gov.bt
DTSTART;VALUE=DATE:20250307
DTEND;VALUE=DATE:20250310
DTSTAMP:20250429T103406Z
URL:https://trashiyangtse.gov.bt/events/tshechu-day/
SUMMARY:Tshechu Day
DESCRIPTION:The Dzongkhag Administration of Trashiyangtse warmly invites th
 e public to attend the vibrant Annual Tshechu\, a sacred festival that cel
 ebrates our rich spiritual and cultural heritage.\nThe Tshechu is more tha
 n just a festival—it's a time to reconnect with our roots\, seek spiritu
 al guidance\, and celebrate together as one community. Bring your family a
 nd friends and be part of this unforgettable celebration!\nWe warmly welco
 me everyone to join us for this exciting event.
ATTACH;FMTTYPE=image/jpeg:https://trashiyangtse.gov.bt/wp-content/uploads/
 2025/04/emvwy7qj.png
CATEGORIES:Culture
LOCATION:Trashiyangtse\, Bhutan\, Trashiyangtse\, Bhutan\, Dzong\, Trashiya
 ngtse\, Bhutan
X-APPLE-STRUCTURED-LOCATION;VALUE=URI;X-ADDRESS=Trashiyangtse\, Bhutan\, Dz
 ong\, Trashiyangtse\, Bhutan;X-APPLE-RADIUS=100;X-TITLE=Trashiyangtse\, Bh
 utan:geo:0,0
END:VEVENT
END:VCALENDAR