BEGIN:VCALENDAR
VERSION:2.0
PRODID:-//wp-events-plugin.com//7.2.3.1//EN
BEGIN:VEVENT
UID:14@trashiyangtse.gov.bt
DTSTART:20250222T090000Z
DTEND:20250222T210000Z
DTSTAMP:20250430T104707Z
URL:https://trashiyangtse.gov.bt/events/black-necked-crane-farewell-festiv
 al/
SUMMARY:Black-necked Crane Farewell Festival
DESCRIPTION:\n\n\n\n\n\n\n\n\nBumdeling Wildlife Santuary in coordination w
 ith Dzongkhag Admimistration\, Trashiyangtse is organising Black Necked Cr
 ane Farewell Festival on 22nd of February 2025.\n\n\nJoin us in celebratin
 g the breath-taking natural beauty\, rich cultural heritage\, and spiritua
 l significance of the community in Bumdelling\, Trashiyangtse.\n\n\n\n\n\n
 \n\n\n
ATTACH;FMTTYPE=image/jpeg:https://trashiyangtse.gov.bt/wp-content/uploads/
 2025/04/lv5ybm6v.png
CATEGORIES:Culture
LOCATION:Trashiyangtse\, Bhutan\, Trashiyangtse\, Bhutan\, Bumdeling\, Bhut
 an\, Bhutan
X-APPLE-STRUCTURED-LOCATION;VALUE=URI;X-ADDRESS=Trashiyangtse\, Bhutan\, Bu
 mdeling\, Bhutan\, Bhutan;X-APPLE-RADIUS=100;X-TITLE=Trashiyangtse\, Bhuta
 n:geo:0,0
END:VEVENT
END:VCALENDAR